BEGIN:VCALENDAR
VERSION:2.0
PRODID:-//Communauté scolaire du Plateau de Diesse - ECPv6.15.20//NONSGML v1.0//EN
CALSCALE:GREGORIAN
METHOD:PUBLISH
X-ORIGINAL-URL:https://www.ecoleplateau.ch
X-WR-CALDESC:Évènements pour Communauté scolaire du Plateau de Diesse
REFRESH-INTERVAL;VALUE=DURATION:PT1H
X-Robots-Tag:noindex
X-PUBLISHED-TTL:PT1H
BEGIN:VTIMEZONE
TZID:Europe/Paris
BEGIN:DAYLIGHT
TZOFFSETFROM:+0100
TZOFFSETTO:+0200
TZNAME:CEST
DTSTART:20210328T010000
END:DAYLIGHT
BEGIN:STANDARD
TZOFFSETFROM:+0200
TZOFFSETTO:+0100
TZNAME:CET
DTSTART:20211031T010000
END:STANDARD
BEGIN:DAYLIGHT
TZOFFSETFROM:+0100
TZOFFSETTO:+0200
TZNAME:CEST
DTSTART:20220327T010000
END:DAYLIGHT
BEGIN:STANDARD
TZOFFSETFROM:+0200
TZOFFSETTO:+0100
TZNAME:CET
DTSTART:20221030T010000
END:STANDARD
BEGIN:DAYLIGHT
TZOFFSETFROM:+0100
TZOFFSETTO:+0200
TZNAME:CEST
DTSTART:20230326T010000
END:DAYLIGHT
BEGIN:STANDARD
TZOFFSETFROM:+0200
TZOFFSETTO:+0100
TZNAME:CET
DTSTART:20231029T010000
END:STANDARD
END:VTIMEZONE
BEGIN:VEVENT
DTSTART;TZID=Europe/Paris:20220828T083000
DTEND;TZID=Europe/Paris:20220828T220000
DTSTAMP:20260422T001616
CREATED:20220812T064057Z
LAST-MODIFIED:20220812T074429Z
UID:522-1661675400-1661724000@www.ecoleplateau.ch
SUMMARY:Fête villageoise de Nods
DESCRIPTION:8h30 – 10h00: Petit déjeuner par les dames de la Vulg. \n10h10 – 11h00: Célébration œcuménique \n11h30 – 12h00: Partie officielle \n14h30 – 16h00: Cortège traditionnel \n16h30 – 20h00: Animation par la Tschuni-Clique d’Orvin \n22h00: Fermeture des carnotzets
URL:https://www.ecoleplateau.ch/event/fete-villageoise-de-nods/
LOCATION:Nods\, Nods\, Suisse
END:VEVENT
END:VCALENDAR