BEGIN:VCALENDAR
VERSION:2.0
PRODID:-//Communauté scolaire du Plateau de Diesse - ECPv6.15.20//NONSGML v1.0//EN
CALSCALE:GREGORIAN
METHOD:PUBLISH
X-ORIGINAL-URL:https://www.ecoleplateau.ch
X-WR-CALDESC:Évènements pour Communauté scolaire du Plateau de Diesse
REFRESH-INTERVAL;VALUE=DURATION:PT1H
X-Robots-Tag:noindex
X-PUBLISHED-TTL:PT1H
BEGIN:VTIMEZONE
TZID:Europe/Paris
BEGIN:DAYLIGHT
TZOFFSETFROM:+0100
TZOFFSETTO:+0200
TZNAME:CEST
DTSTART:20230326T010000
END:DAYLIGHT
BEGIN:STANDARD
TZOFFSETFROM:+0200
TZOFFSETTO:+0100
TZNAME:CET
DTSTART:20231029T010000
END:STANDARD
BEGIN:DAYLIGHT
TZOFFSETFROM:+0100
TZOFFSETTO:+0200
TZNAME:CEST
DTSTART:20240331T010000
END:DAYLIGHT
BEGIN:STANDARD
TZOFFSETFROM:+0200
TZOFFSETTO:+0100
TZNAME:CET
DTSTART:20241027T010000
END:STANDARD
BEGIN:DAYLIGHT
TZOFFSETFROM:+0100
TZOFFSETTO:+0200
TZNAME:CEST
DTSTART:20250330T010000
END:DAYLIGHT
BEGIN:STANDARD
TZOFFSETFROM:+0200
TZOFFSETTO:+0100
TZNAME:CET
DTSTART:20251026T010000
END:STANDARD
END:VTIMEZONE
BEGIN:VEVENT
DTSTART;VALUE=DATE:20240819
DTEND;VALUE=DATE:20240820
DTSTAMP:20260420T222408
CREATED:20240617T130950Z
LAST-MODIFIED:20240617T130950Z
UID:878-1724025600-1724111999@www.ecoleplateau.ch
SUMMARY:Rentrée scolaire 2024-2025
DESCRIPTION:La rentrée scolaire aura lieu le 19 août 2024!
URL:https://www.ecoleplateau.ch/event/rentree-scolaire-2024-2025/
END:VEVENT
BEGIN:VEVENT
DTSTART;VALUE=DATE:20240819
DTEND;VALUE=DATE:20240820
DTSTAMP:20260420T222408
CREATED:20240730T143011Z
LAST-MODIFIED:20240730T143235Z
UID:894-1724025600-1724111999@www.ecoleplateau.ch
SUMMARY:Rentrée scolaire 2024-2025
DESCRIPTION:L’année scolaire 2024-2025 commencera le lundi 19 août! Toute l’équipe de la communauté solaire du Plateau de Diesse se réjouit!
URL:https://www.ecoleplateau.ch/event/rentree-scolaire-2024-2025-2/
END:VEVENT
BEGIN:VEVENT
DTSTART;TZID=Europe/Paris:20240823T100000
DTEND;TZID=Europe/Paris:20240825T170000
DTSTAMP:20260420T222408
CREATED:20240730T143356Z
LAST-MODIFIED:20240730T143356Z
UID:897-1724407200-1724605200@www.ecoleplateau.ch
SUMMARY:Fête villageoise de Lamboing
DESCRIPTION:
URL:https://www.ecoleplateau.ch/event/fete-villageoise-de-lamboing/
END:VEVENT
END:VCALENDAR